BEGIN:VCALENDAR
VERSION:2.0
PRODID:-//Insight Education - ECPv6.6.4.2//NONSGML v1.0//EN
CALSCALE:GREGORIAN
METHOD:PUBLISH
X-WR-CALNAME:Insight Education
X-ORIGINAL-URL:https://www.insight-education.net
X-WR-CALDESC:Events for Insight Education
REFRESH-INTERVAL;VALUE=DURATION:PT1H
X-Robots-Tag:noindex
X-PUBLISHED-TTL:PT1H
BEGIN:VTIMEZONE
TZID:UTC
BEGIN:STANDARD
TZOFFSETFROM:+0000
TZOFFSETTO:+0000
TZNAME:UTC
DTSTART:20240101T000000
END:STANDARD
TZID:America/Los_Angeles
BEGIN:DAYLIGHT
TZOFFSETFROM:-0800
TZOFFSETTO:-0700
TZNAME:PDT
DTSTART:20240310T100000
END:DAYLIGHT
BEGIN:STANDARD
TZOFFSETFROM:-0700
TZOFFSETTO:-0800
TZNAME:PST
DTSTART:20241103T090000
END:STANDARD
END:VTIMEZONE
BEGIN:VEVENT
DTSTART;TZID=UTC:20260304T180000
DTEND;TZID=UTC:20260304T193000
DTSTAMP:20260425T114559
CREATED:20260304T215829Z
LAST-MODIFIED:20260304T215922Z
UID:13498-1772647200-1772652600@www.insight-education.net
SUMMARY:Getting Organized For College Admissions Season
DESCRIPTION:This is event is open only to students and their parents who are currently enrolled in one of Insight Education’s College Admissions Counseling programs.
URL:https://www.insight-education.net/event/getting-organized-college-admissions-season/
LOCATION:CA
ORGANIZER;CN="Insight Education":MAILTO:info@insight-education.net
END:VEVENT
BEGIN:VEVENT
DTSTART;TZID=UTC:20251108T120000
DTEND;TZID=UTC:20251108T170000
DTSTAMP:20260425T114559
CREATED:20251008T135717Z
LAST-MODIFIED:20251030T203836Z
UID:13263-1762603200-1762621200@www.insight-education.net
SUMMARY:2025 Summer Discovery Fair
DESCRIPTION:SUMMER DISCOVERY FAIR\n*Please register for the event using the form below* \nJoin Insight Education for our 8th Annual Summer Discovery Fair\, where high school students and their parents can explore transformative summer opportunities designed to spark curiosity\, build skills\, and create lasting impact. Whether you’re aiming to dive into advanced research\, prepare for college\, travel abroad\, or grow as a leader\, this fair will connect you with programs that inspire\, challenge\, and empower. \nDate & Time: Saturday\, November 8th from 12:00 PM – 5:00 PM \nLocation: This event will be held in-person at 1601 S De Anza Blvd.\, # 108\, Cupertino\, CA 95014 \n 
URL:https://www.insight-education.net/event/2025-summer-discovery-fair/
LOCATION:Insight Education Cupertino\, 1601 S De Anza Blvd Ste 108\, Cupertino\, CA\, 95014\, United States
CATEGORIES:Summer Fair
ORGANIZER;CN="Insight Education":MAILTO:info@insight-education.net
END:VEVENT
BEGIN:VEVENT
DTSTART;TZID=UTC:20250725T091500
DTEND;TZID=UTC:20250725T120000
DTSTAMP:20260425T114559
CREATED:20250724T015059Z
LAST-MODIFIED:20250724T015240Z
UID:13216-1753434900-1753444800@www.insight-education.net
SUMMARY:Complimentary IN-PERSON Practice DIGITAL SAT
DESCRIPTION:On Friday July 25\, 2025\, Insight Education is hosting a FREE IN-PERSON DIGITAL SAT DIAGNOSTIC TEST from 9:30am-12:00pm. Please arrive no later than 9:15am to get settled in. \nThe registration form will provide you instructions and additional details. The key requirement is that this is an in-person event and students must bring their own laptop.  \nStudents or their parents who are interested in registering can do so here: 
URL:https://www.insight-education.net/event/complimentary-person-practice-digital-sat/
LOCATION:CA
END:VEVENT
BEGIN:VEVENT
DTSTART;TZID=UTC:20250724T090000
DTEND;TZID=UTC:20250724T123000
DTSTAMP:20260425T114559
CREATED:20250722T000139Z
LAST-MODIFIED:20250724T015213Z
UID:13207-1753347600-1753360200@www.insight-education.net
SUMMARY:Complimentary IN-PERSON Practice Digital SAT Test
DESCRIPTION:On Thursday July 24\, 2025\, Insight Education is hosting two FREE IN-PERSON DIGITAL SAT DIAGNOSTIC TESTS. The first slot runs from 9:00am-12:30pm and the second option runs from 1:00pm-3:30pm. The tests are identical for both time slots so please choose the slot based on student availability and convenience. \nThe form will provide you instructions and additional details. The key requirement is that this is an in-person event and students must bring their own laptop.  \nStudents or their parents who are interested in registering can do so here: 
URL:https://www.insight-education.net/event/complimentary-person-practice-digital-sat-test-thursday-july-24-2025/
LOCATION:Insight Education Cupertino\, 1601 S De Anza Blvd Ste 108\, Cupertino\, CA\, 95014\, United States
ATTACH;FMTTYPE=image/png:https://www.insight-education.net/wp-content/uploads/2025/07/Social-Media-Graphic-for-FREE-DSAT-on-July-24-2025.png
ORGANIZER;CN="Insight Education":MAILTO:info@insight-education.net
END:VEVENT
BEGIN:VEVENT
DTSTART;TZID=UTC:20250708T180000
DTEND;TZID=UTC:20250708T193000
DTSTAMP:20260425T114559
CREATED:20250528T211358Z
LAST-MODIFIED:20250708T163131Z
UID:13096-1751997600-1752003000@www.insight-education.net
SUMMARY:College Admissions Uncovered: Trends\, Strategies\, and Insights
DESCRIPTION:College Admissions Uncovered: Trends\, Strategies\, and Insights\nJoin Insight Education’s professional College Admissions Counselors for a dynamic and data-driven Town Hall webinar designed for high school students and their parents. We’ll break down key insights from the most recent admissions cycle and past admissions cycles—including trends across the University of California system and many other top U.S. colleges—so you can better understand the evolving college landscape. \nThis interactive session will explore shifting application behaviors\, the tumultuous role of standardized testing since Covid\, changing institutional priorities\, and what it all means for your student’s strategy. Whether you’re planning ahead or adjusting course\, this is your chance to ask questions and gain clarity from seasoned professionals who have guided thousands of students to success since 1999. \nAt Insight\, we believe that informed decisions create empowered students. Let us help you chart your path forward with confidence. \nTuesday\, July 8\, 2025 from 6:00 pm – 7:30 pm (PST) on Zoom \n\nRegister for Free Today
URL:https://www.insight-education.net/event/trends-seminar/
LOCATION:Online Via Zoom
ATTACH;FMTTYPE=image/jpeg:https://www.insight-education.net/wp-content/uploads/2025/05/1JPEG-scaled.jpg
ORGANIZER;CN="Insight Education":MAILTO:info@insight-education.net
END:VEVENT
BEGIN:VEVENT
DTSTART;TZID=UTC:20250528T170000
DTEND;TZID=UTC:20250528T180000
DTSTAMP:20260425T114559
CREATED:20250515T234632Z
LAST-MODIFIED:20250528T184602Z
UID:13067-1748451600-1748455200@www.insight-education.net
SUMMARY:INSIGHT Spotlight: Mapping Your Artistic Future - Visual & Performing Arts Admissions Seminar
DESCRIPTION:Calling All Aspiring Creatives! \nAre you a high school student with a passion for visual or performing arts? Do you dream of turning your creativity into a college degree—and a future career? Join Insight Education for a free webinar that will demystify the college admissions process for students pursuing the arts. \nWith over 26 years of college admissions expertise\, Insight Education will guide you through what it takes to apply to art schools and arts programs—from understanding the difference between a B.A. and a B.F.A./B.M.\, to building a standout portfolio\, creative resume\, and pre-screen audition. Whether you’re applying for music\, dance\, theatre\, film\, or visual arts\, this session will help you navigate the unique requirements of arts-based applications with confidence. \nLed by Senior College Admissions Counselor\, Chelese Belmont\, who brings 20 years of college admissions experience\, this webinar is packed with insider tips\, sample portfolios\, and strategic advice you won’t want to miss. \nDon’t wait—get the clarity and confidence you need to pursue your artistic dreams! \nWednesday\, May 28\, 2025 from 5:00 pm – 6:00 pm (PST) \n					\n									Register Today
URL:https://www.insight-education.net/event/insight-spotlight-mapping-artistic-future-visual-performing-arts-admissions-seminar/
LOCATION:Online Via Zoom
CATEGORIES:Seminar
ATTACH;FMTTYPE=image/jpeg:https://www.insight-education.net/wp-content/uploads/2025/04/thumbnail_250405_HEADSHOT_DAY2077-copy.jpg
ORGANIZER;CN="Insight Education":MAILTO:info@insight-education.net
END:VEVENT
BEGIN:VEVENT
DTSTART;TZID=UTC:20240912T170000
DTEND;TZID=UTC:20240912T180000
DTSTAMP:20260425T114559
CREATED:20240610T191719Z
LAST-MODIFIED:20240906T084026Z
UID:11118-1726160400-1726164000@www.insight-education.net
SUMMARY:Discover Hidden Gems: Must-Explore Colleges You Haven't Considered Yet!
DESCRIPTION:
URL:https://www.insight-education.net/event/hidden-gems-colleges-havent-considered/
LOCATION:Online Via Zoom
CATEGORIES:College Applications,Counseling,Seminar,Workshop
ORGANIZER;CN="Insight Education":MAILTO:info@insight-education.net
END:VEVENT
BEGIN:VEVENT
DTSTART;TZID=UTC:20240626T170000
DTEND;TZID=UTC:20240626T180000
DTSTAMP:20260425T114559
CREATED:20240610T191937Z
LAST-MODIFIED:20240610T192019Z
UID:11119-1719421200-1719424800@www.insight-education.net
SUMMARY:Building Your Ideal College List: Strategies for Success
DESCRIPTION:
URL:https://www.insight-education.net/event/build-great-college-list/
LOCATION:Online Via Zoom
CATEGORIES:College Applications,Counseling
ORGANIZER;CN="Insight Education":MAILTO:info@insight-education.net
END:VEVENT
BEGIN:VEVENT
DTSTART;TZID=America/Los_Angeles:20240530T180000
DTEND;TZID=America/Los_Angeles:20240530T190000
DTSTAMP:20260425T114559
CREATED:20240523T070051Z
LAST-MODIFIED:20240530T214904Z
UID:11085-1717092000-1717095600@www.insight-education.net
SUMMARY:Navigating Teen Mental Wellness Through the College Application Journey
DESCRIPTION:Join us for an eye-opening online workshop (REGISTER HERE) where we unravel the complexities of the modern college application process. Discover why today’s teens are grappling with mental health challenges amidst the pressure to secure a spot in a top-tier university. \nOur expert host\, Priya Singh\, a seasoned Yogi\, Health Coach\, and College Admissions Counselor will reveal insider tips and DIY secrets to maintain calm and focus throughout this journey. From understanding the root causes of stress to navigating the application maze with ease\, we’ve got you covered. \nDon’t let stress dictate your future. Let’s empower you to make your college dreams a reality – without the overwhelm! \nREGISTER HERE!
URL:https://www.insight-education.net/event/navigating-teen-mental-wellness-college-application-journey/
LOCATION:Online Via Zoom
CATEGORIES:College Applications,Counseling,Seminar,Workshop
ORGANIZER;CN="Insight Education":MAILTO:info@insight-education.net
END:VEVENT
BEGIN:VEVENT
DTSTART;TZID=UTC:20240529T180000
DTEND;TZID=UTC:20240529T190000
DTSTAMP:20260425T114559
CREATED:20240523T213334Z
LAST-MODIFIED:20240528T195421Z
UID:11087-1717005600-1717009200@www.insight-education.net
SUMMARY:Navigating Standardized Tests and College Admissions: Insights and Strategies for Success
DESCRIPTION:Navigating Standardized Testing (Digital SAT and ACT) and College Admissions: Insights and Strategies for Success\nJoin Insight Education for a comprehensive webinar on the evolving Standardized Testing landscape and the role of the Digital SAT and/or ACT in college admissions. We’ll cover the latest trends and realities\, especially in the post-COVID era\, and help you understand how colleges are evaluating standardized tests. REGISTER HERE! \nIn this session\, you’ll gain clarity on key questions such as: \n\nHow are the UCs evaluating applicants in the absence of an SAT or ACT score?\nHow are other selective undergraduate colleges/universities handling test scores?\nWhy are some selective undergraduate colleges/universities reinstating standardized test score requirements?\nWhat steps should a high school student take when it comes to planning their standardized testing?\nWhat are the pros and cons of the Digital SAT vs. the ACT?\n\nEquip yourself with the knowledge to navigate the college admissions process effectively. \nThis event will be led by one of Insight Education‘s Senior College Admissions Counselors\, Meilin Obinata. Meilin has over 12 years of college admissions experience and holds a a law degree (Juris Doctor) from The Mitchell Hamline School of Law in St. Paul\, Minnesota and an  undergraduate degree in Mathematics from UC Santa Cruz. \n\n\n\n\n\n\n \n \n\n 
URL:https://www.insight-education.net/event/navigating-digital-sat-college-admissions-insights-strategies-success/
LOCATION:Online Via Zoom
ORGANIZER;CN="Insight Education":MAILTO:info@insight-education.net
END:VEVENT
END:VCALENDAR