BEGIN:VCALENDAR
VERSION:2.0
PRODID:-//Insight Education - ECPv6.6.4.2//NONSGML v1.0//EN
CALSCALE:GREGORIAN
METHOD:PUBLISH
X-WR-CALNAME:Insight Education
X-ORIGINAL-URL:https://www.insight-education.net
X-WR-CALDESC:Events for Insight Education
REFRESH-INTERVAL;VALUE=DURATION:PT1H
X-Robots-Tag:noindex
X-PUBLISHED-TTL:PT1H
BEGIN:VTIMEZONE
TZID:UTC
BEGIN:STANDARD
TZOFFSETFROM:+0000
TZOFFSETTO:+0000
TZNAME:UTC
DTSTART:20260101T000000
END:STANDARD
END:VTIMEZONE
BEGIN:VEVENT
DTSTART;TZID=UTC:20260413T093000
DTEND;TZID=UTC:20260416T160000
DTSTAMP:20260425T101959
CREATED:20260319T043153Z
LAST-MODIFIED:20260319T043153Z
UID:13529-1776072600-1776355200@www.insight-education.net
SUMMARY:April Break 2026 - DIGITAL SAT MASTERY BOOT CAMP
DESCRIPTION:
URL:https://www.insight-education.net/event/april-break-2026-digital-sat-mastery-boot-camp/
LOCATION:Insight Education Cupertino\, 1601 S De Anza Blvd Ste 108\, Cupertino\, CA\, 95014\, United States
ORGANIZER;CN="Insight Education":MAILTO:info@insight-education.net
END:VEVENT
BEGIN:VEVENT
DTSTART;TZID=UTC:20260706T093000
DTEND;TZID=UTC:20260710T160000
DTSTAMP:20260425T101959
CREATED:20260404T000236Z
LAST-MODIFIED:20260404T000347Z
UID:13559-1783330200-1783699200@www.insight-education.net
SUMMARY:July 2026 ACT Mastery Boot Camp
DESCRIPTION:ACT MASTERY BOOT CAMP\n        \n\n          Dates • Times • Price • Location • Early Bird Code\n        \n \n       \n\n\n           \n\n\n              $150 Early Bird Discount If you enroll by April 30\, 2026\n              \n                Use Code\n                 ACT150 \n              \n            \n\n              Regular Price $800 • With Discount Code ACT150 → $650\n            \n \n           \n\n           \n\n\n              $50 Discount for enrollments from May 1–31\, 2026\n              \n                Use Code\n                 ACT50 \n              \n            \n\n              Regular Price $800 • With Discount Code ACT50 → $750\n            \n \n \n \n       \n\n\n\n\n               \n\nDates\nMon\, July 6\, 2026 – Fri\, July 10\, 2026\n5 total class days\n\n               \n\nPrice\n\n$800\n$650\nSave $150\n \n\n                  Enter ACT150 in the coupon field at checkout by April 30\, 2026. From May 1–31\, 2026\, use ACT50 to receive $50 off.\n                \n\n\n\n               \n\nDaily Time\n9:30am – 4:00pm\n\nView daily schedule ▼\n\n\nTime\nActivity\n \n\n9:30am – 12:00pm\nFull-length ACT Diagnostic Test (bring your own laptop)\n \n\n12:00pm – 12:30pm\nLunch Break (bring your own lunch)\n \n\n12:30pm – 4:00pm\nACT Test Review + ACT Class\n \n \n\nIncludes a full-length diagnostic + instructor-led review and instruction.\n\n               \n\nIn Person\nInsight Education (Cupertino office)\n\n                  1601 S De Anza Blvd\, Suite 108\n                  Cupertino\, CA 95014\n                \n\n\n\n\n \n     \n\n       \n\n\n          Learn More About Insight’s ACT Mastery Boot Camp (tap to expand)\n        \n\n\n            For highly motivated students ready to elevate their ACT performance\, the ACT Mastery Boot Camp\n            delivers an immersive\, results-driven experience.\n           \n\n            This intensive 5-day program includes a full-length ACT practice test each day\, followed by a comprehensive\,\n            instructor-led review session and targeted instruction. Students don’t just review answers — they analyze patterns\,\n            strengthen weak areas\, and refine strategy in real time.\n           \n\n            By replicating authentic testing conditions daily\, students build the stamina\, focus\, and confidence required to perform\n            at their highest level on the official ACT.\n           \n\n            Throughout the week\, instructors address core concepts\, advanced strategies\, test-specific fundamentals\, and the unique\n            challenges revealed by each day’s exam — ensuring every student leaves sharper\, stronger\, and fully prepared.\n           \n \n\n       \n\nUnsure which class is the best fit?\n\n          We offer diagnostic testing bundles so students can see where they’re scoring before committing to a class.\n          Email info@insight-education.net\n          to learn more.\n        \n \n       \n\n\nOfficial ACT Registration\nRegister for an official ACT exam (suggested\, not required)\n \n\n          \n            Click to register for an Official ACT\n           \n\n            Note: This link is only for registering for an official ACT exam — not for enrolling in this class.
URL:https://www.insight-education.net/event/july-2026-act-mastery-boot-camp/
LOCATION:Insight Education Cupertino\, 1601 S De Anza Blvd Ste 108\, Cupertino\, CA\, 95014\, United States
ORGANIZER;CN="Insight Education":MAILTO:info@insight-education.net
END:VEVENT
END:VCALENDAR